BEGIN:VCALENDAR
VERSION:2.0
PRODID:Quicksite
NAME:Calendrier
X-WR-CALNAME:Calendrier
REFRESH-INTERVAL;VALUE=DURATION:PT240M
X-PUBLISHED-TTL:PT240M
BEGIN:VEVENT
UID:69e596fa3a810
SUMMARY:Jeux du mois
DESCRIPTION:Société de développement de Palézieux
LOCATION:Palézieux - Foyer de paroisse
DTSTART:20260423
DTSTAMP:20260305T165513Z
END:VEVENT
END:VCALENDAR